BEGIN:VCALENDAR
VERSION:2.0
PRODID:-//ChamberMaster//Event Calendar 2.0//EN
METHOD:PUBLISH
X-PUBLISHED-TTL:P3D
REFRESH-INTERVAL:P3D
CALSCALE:GREGORIAN
BEGIN:VEVENT
DTSTART:20251018T140000Z
DTEND:20251018T170000Z
X-MICROSOFT-CDO-ALLDAYEVENT:FALSE
SUMMARY:Walk to End Alzheimer's - Flint
DESCRIPTION:All funds raised through Walk to End Alzheimer's further the care\, support and research efforts of the Alzheimer's Association.
X-ALT-DESC;FMTTYPE=text/html:<span style="color:rgb(34\, 34\, 34)\; font-family:houschkaaltpro\,arial\,sans-serif\; font-size:18px">All funds raised through Walk to End Alzheimer&#39\;s further the care\, support and research efforts of the Alzheimer&#39\;s Association.</span>
LOCATION:Flint Flat lot East side of Saginaw St\, Between Kearsley & First St
UID:e.2606.20100
SEQUENCE:3
DTSTAMP:20260421T205936Z
URL:https://members.flintandgeneseechamber.org/events/details/walk-to-end-alzheimer-s-flint-20100
END:VEVENT

END:VCALENDAR
