BEGIN:VCALENDAR
VERSION:2.0
PRODID:-//ChamberMaster//Event Calendar 2.0//EN
METHOD:PUBLISH
X-PUBLISHED-TTL:P3D
REFRESH-INTERVAL:P3D
CALSCALE:GREGORIAN
BEGIN:VEVENT
DTSTART:20130828T123000Z
DTEND:20130828T140000Z
X-MICROSOFT-CDO-ALLDAYEVENT:FALSE
SUMMARY:What It Looks Like: A Disability Works Seminar
DESCRIPTION:Learn how to help your business improve your workforce by hiring qualified employees with disabilities.  At this event\, you will meet employers and their employees with disabilities to better understand day-to-day impacts and accommodations.\n\nSpace is limited\, so reserve your seat by contacting Emily Riddles at (810) 742-1800\, ext. 324 or email emilyr@disnetwork.org.\n\nLight refreshments will be served.\n\nThis event is presented by Disability Works\, a committee of the Flint & Genesee Chamber of Commerce\, and the Disability Network.
X-ALT-DESC;FMTTYPE=text/html:Learn how to help your business improve your workforce by hiring qualified employees with disabilities.  At this event\, you will meet employers and their employees with disabilities to better understand day-to-day impacts and accommodations.\n\nSpace is limited\, so reserve your seat by contacting Emily Riddles at (810) 742-1800\, ext. 324 or email <a href="mailto:emilyr@disnetwork.org">emilyr@disnetwork.org</a>.\n\nLight refreshments will be served.\n\nThis event is presented by <a href="http://www.flintandgenesee.org/connect/committees/disability-works-committee/">Disability Works</a>\, a committee of the Flint &amp\; Genesee Chamber of Commerce\, and the <a href="http://www.disnetwork.org/" target="_blank">Disability Network</a>.
LOCATION:Newton International 2110 W. Hill Road Flint MI 48507
UID:e.2606.424
SEQUENCE:3
DTSTAMP:20260421T233828Z
URL:https://members.flintandgeneseechamber.org/events/details/what-it-looks-like-a-disability-works-seminar-08-28-2013-424
END:VEVENT

END:VCALENDAR
