BEGIN:VCALENDAR
VERSION:2.0
PRODID:-//ChamberMaster//Event Calendar 2.0//EN
METHOD:PUBLISH
X-PUBLISHED-TTL:P3D
REFRESH-INTERVAL:P3D
CALSCALE:GREGORIAN
BEGIN:VEVENT
DTSTART:20130821T123000Z
DTEND:20130821T140000Z
X-MICROSOFT-CDO-ALLDAYEVENT:FALSE
SUMMARY:What It Looks Like: Disability Works Seminar
DESCRIPTION:Learn how to help your business improve your workforce by hiring qualified employees with disabilities.\n\nWHAT IT LOOKS LIKE\n\nMeet employers and their employees with disabilities to better understand day-to-day impacts and accommodations.\n\nLight refreshments will be served.\n\nPresented by: Disability Works\, a committee of the Flint & Genesee Chamber of Commerce\, and  The Disability Network.\n\nSpace is limited so reserve your seat by contacting Emily Riddles at (810) 742-1800 ext. 324 or emilyr@disnetwork.org.
X-ALT-DESC;FMTTYPE=text/html:Learn how to help your business improve your workforce by hiring qualified employees with disabilities.\n\nWHAT IT LOOKS LIKE\n\nMeet employers and their employees with disabilities to better understand day-to-day impacts and accommodations.\n\nLight refreshments will be served.\n\nPresented by: Disability Works\, a committee of the Flint &amp\; Genesee Chamber of Commerce\, and  The Disability Network.\n\nSpace is limited so reserve your seat by contacting Emily Riddles at (810) 742-1800 ext. 324 or <a href="mailto:emilyr@disnetwork.org">emilyr@disnetwork.org</a>.
LOCATION:
UID:e.2606.419
SEQUENCE:3
DTSTAMP:20260421T233838Z
URL:https://members.flintandgeneseechamber.org/events/details/what-it-looks-like-disability-works-seminar-08-21-2013-419
END:VEVENT

END:VCALENDAR
