BEGIN:VCALENDAR
VERSION:2.0
PRODID:-//ChamberMaster//Event Calendar 2.0//EN
METHOD:PUBLISH
X-PUBLISHED-TTL:P3D
REFRESH-INTERVAL:P3D
CALSCALE:GREGORIAN
BEGIN:VEVENT
DTSTART:20140416T160000Z
DTEND:20140416T170000Z
X-MICROSOFT-CDO-ALLDAYEVENT:FALSE
SUMMARY:What's the Big Deal with Google+
DESCRIPTION:What's the Big Deal with Google+?\n\nMany people have heard of Google+ but are unclear of how it would benefit their business.  Learn the basics of this social network\, and how it ties in with the trust and online visibility of your business.\n\nSocial Media & Digital Marketing - Flint and Genesee Chamber Lunch & Learn Series\n\nAll Flint & Genesee Chamber of Commerce Members are invited to a series hosted by Mlive & The Flint Journal.  These seminars will educate and equip business professionals with the knowledge and tools needed to compete and stand out in the realm of social media and online marketing.\n\nThese seminars are designed as stand-alone sessions that fit into the spring social media for business track or the fall digital marketing strategy track. Join us for any or all of the sessions. \n\nThere is no charge to attend these monthly sessions and lunch is included!\n\n Please RSVP online here.\n\nStandard session agenda\n\n	 12 pm – arrive\, get lunch and get settled\n	 12:15 pm - 12:45 pm – presentation\n	 12:45 pm – 1 pm – Q & A\, wrap up\, announcement of next session\n\nFuture sessions:\n\n	May 21\, 2014: Do I Really Need to be on Twitter? -  This session will cover the basics of this social network\, and learn how small businesses are utilizing Twitter to gain market intelligence and make profitable connections.\n	September 17\, 2014: How to Create a Comprehensive Marketing Plan -  This session will cover how to put together a comprehensive digital marketing plan to strategically reach customers as they move through the sales funnel.\n	October 15\, 2014: Determining ROI of Digital Marketing - This session will address the importance of name recognition and awareness in the market to keep your business top of mind with potential customers when they are in the market for your goods and services.\n	November 19\, 2014: Unveiling the Misconception of Digital Marketing - This session will cover digital marketing myths\, and include a panel discussion with expanded Q & A.
X-ALT-DESC;FMTTYPE=text/html:<strong>What's the Big Deal with Google+?</strong>\n\nMany people have heard of Google+ but are unclear of how it would benefit their business.  Learn the basics of this social network\, and how it ties in with the trust and online visibility of your business.\n\n<strong>Social Media &amp\; Digital Marketing - Flint and Genesee Chamber Lunch &amp\; Learn Series</strong>\n\n<em>All Flint &amp\; Genesee Chamber of Commerce Members are invited to a series hosted by Mlive &amp\; The Flint Journal.  These seminars will educate and equip business professionals with the knowledge and tools needed to compete and stand out in the realm of social media and online marketing.</em>\n\n<em>These seminars are designed as stand-alone sessions that fit into the spring social media for business track or the fall digital marketing strategy track. Join us for any or all of the sessions. </em>\n\n<em>There is no charge to attend these monthly sessions and lunch is included!</em>\n\n<em> </em><em>Please RSVP <a href="http://www.eventbrite.com/e/flint-genesee-lunch-learn-social-media-for-business-professionals-registration-10522052743?aff=E221" target="_blank">online here</a>.</em>\n\n<strong>Standard session agenda</strong>\n<ul>\n	<li> 12 pm – arrive\, get lunch and get settled</li>\n	<li> 12:15 pm - 12:45 pm – presentation</li>\n	<li> 12:45 pm – 1 pm – Q &amp\; A\, wrap up\, announcement of next session</li>\n</ul>\nFuture sessions:\n<ul>\n	<li><strong><strong>May 21\, 2014: Do I Really Need to be on Twitter?</strong> -  </strong>This session will cover the basics of this social network\, and learn how small businesses are utilizing Twitter to gain market intelligence and make profitable connections.</li>\n	<li><strong><strong>September 17\, 2014: How to Create a Comprehensive Marketing Plan</strong> - </strong> This session will cover how to put together a comprehensive digital marketing plan to strategically reach customers as they move through the sales funnel.</li>\n	<li><strong><strong>October 15\, 2014: Determining ROI of Digital Marketing</strong> - </strong>This session will address the importance of name recognition and awareness in the market to keep your business top of mind with potential customers when they are in the market for your goods and services.</li>\n	<li><strong>November 19\, 2014: Unveiling the Misconception of Digital Marketing</strong> - This session will cover digital marketing myths\, and include a panel discussion with expanded Q &amp\; A.</li>\n</ul>
LOCATION:MLive / Flint Jounal 540 S. Saginaw St. Flint MI 48502
UID:e.2606.832
SEQUENCE:3
DTSTAMP:20260421T113908Z
URL:https://members.flintandgeneseechamber.org/events/details/what-s-the-big-deal-with-google-04-16-2014-832
END:VEVENT

END:VCALENDAR
