BEGIN:VCALENDAR
VERSION:2.0
PRODID:-//ChamberMaster//Event Calendar 2.0//EN
METHOD:PUBLISH
X-PUBLISHED-TTL:P3D
REFRESH-INTERVAL:P3D
CALSCALE:GREGORIAN
BEGIN:VEVENT
DTSTART:20131012T140000Z
DTEND:20131013T230000Z
X-MICROSOFT-CDO-ALLDAYEVENT:FALSE
SUMMARY:''What's This Worth'' Vintage Collectible & Appraisal Fair at Flint's Perani Arena and Event Center
DESCRIPTION:This first time event will feature over 100 antique vendors from around the state along with appraisers giving guest estimates on the value of their treasures. Special guests will make appearances all weekend such as Cari from the "Cash and Cari Show" on HGTV who will make two presentations and sign autographs throughout Sunday. Show hours run Saturday from 10 a.m. to 7 p.m. and Sunday from 11 a.m. to 6 p.m. Discounted overnight rooms available at Americas Best Value Inn & Suites - (810) 233-9000. For more information call Brian at (248) 636-0965.
X-ALT-DESC;FMTTYPE=text/html:This first time event will feature over 100 antique vendors from around the state along with appraisers giving guest estimates on the value of their treasures. Special guests will make appearances all weekend such as Cari from the "Cash and Cari Show" on HGTV who will make two presentations and sign autographs throughout Sunday. Show hours run Saturday from 10 a.m. to 7 p.m. and Sunday from 11 a.m. to 6 p.m. Discounted overnight rooms available at Americas Best Value Inn &amp\; Suites - (810) 233-9000. For more information call Brian at (248) 636-0965.
LOCATION:Perani Arena & Event Center 3501 Lapeer Road Flint Michigan
UID:e.2606.498
SEQUENCE:3
DTSTAMP:20260421T203356Z
URL:https://members.flintandgeneseechamber.org/events/details/what-s-this-worth-vintage-collectible-appraisal-fair-at-flint-s-perani-arena-and-event-center-10-12-2013-498
END:VEVENT

END:VCALENDAR
