BEGIN:VCALENDAR
VERSION:2.0
PRODID:-//ChamberMaster//Event Calendar 2.0//EN
METHOD:PUBLISH
X-PUBLISHED-TTL:P3D
REFRESH-INTERVAL:P3D
CALSCALE:GREGORIAN
BEGIN:VEVENT
DTSTART:20251025T160000Z
DTEND:20251025T220000Z
X-MICROSOFT-CDO-ALLDAYEVENT:FALSE
SUMMARY:Willy's Halloween Fun
DESCRIPTION:Join us for a family-fun Halloween celebration packed with festivities at Frankenmuth Bavarian Inn Lodge and Frankenmuth River Place Shops Scarecrow Fest on October 25th!\n\n \n\nThis bundle unlocks a full day of spook-tacular activities\, perfect for all ages. With your wristband\, you'll enjoy:\n\n \n\n- Trick or Treating at Bavarian Inn Lodge from 12:30 - 2:30\n\n- Tickets to Frankenmuth River Place Shops Scarecrow Fest activities\, including pumpkin bowling\, pumpkin painting\, a barrel train ride for kids\, and a $10 River Place Shops Game Room Card.\n\n- Photo opportunities with the Bavarian Inn Mascots: Willy\, Greta\, and Goldie!\n\n \n\nChildren and adults are welcome to dress up in their favorite costumes and collect treats from various locations\, with the Bavarian Inn Mascots making the day extra special. Don't miss out on Willy's Halloween Event Bundle it's the perfect way to enjoy Halloween together! Costume Guidelines: Costumes should avoid depicting weapons or violent imagery to ensure a fun and family-friendly atmosphere. If we find your costume to be offensive\, you will be asked to remove it by Lodge management.
X-ALT-DESC;FMTTYPE=text/html:<div>Join us for a family-fun Halloween celebration packed with festivities at Frankenmuth Bavarian Inn Lodge and Frankenmuth River Place Shops Scarecrow Fest on October 25th!</div>\n\n<div>&nbsp\;</div>\n\n<div>This bundle unlocks a full day of spook-tacular activities\, perfect for all ages. With your wristband\, you&rsquo\;ll enjoy:</div>\n\n<div>&nbsp\;</div>\n\n<div>- Trick or Treating at Bavarian Inn Lodge from 12:30 - 2:30</div>\n\n<div>- Tickets to Frankenmuth River Place Shops Scarecrow Fest activities\, including pumpkin bowling\, pumpkin painting\, a barrel train ride for kids\, and a $10 River Place Shops Game Room Card.</div>\n\n<div>- Photo opportunities with the Bavarian Inn Mascots: Willy\, Greta\, and Goldie!</div>\n\n<div>&nbsp\;</div>\n\n<div>Children and adults are welcome to dress up in their favorite costumes and collect treats from various locations\, with the Bavarian Inn Mascots making the day extra special. Don&rsquo\;t miss out on Willy&rsquo\;s Halloween Event Bundle&mdash\;it&rsquo\;s the perfect way to enjoy Halloween together! Costume Guidelines: Costumes should avoid depicting weapons or violent imagery to ensure a fun and family-friendly atmosphere. If we find your costume to be offensive\, you will be asked to remove it by Lodge management.</div>\n
LOCATION:Bavarian Inn Lodge One Covered Bridge Lane\, Frankenmuth\, Michigan
UID:e.2606.20108
SEQUENCE:3
DTSTAMP:20260421T205719Z
URL:https://members.flintandgeneseechamber.org/events/details/willy-s-halloween-fun-20108
END:VEVENT

END:VCALENDAR
