BEGIN:VCALENDAR
VERSION:2.0
PRODID:-//ChamberMaster//Event Calendar 2.0//EN
METHOD:PUBLISH
X-PUBLISHED-TTL:P3D
REFRESH-INTERVAL:P3D
CALSCALE:GREGORIAN
BEGIN:VEVENT
DTSTART:20140208T180000Z
DTEND:20140208T230000Z
X-MICROSOFT-CDO-ALLDAYEVENT:FALSE
SUMMARY:Wine\, Women & Chocolate at IMA Brookwood Golf Club
DESCRIPTION:Enjoy this unique women's only event offering a 5K snow shoe\, cross country ski and walking course on the beautiful IMA Brookwood Golf Course. Flint's Shumaker's Ski & Snowboard generously provides all equipment or if you like\, you my bring your own. Hospitality tents are set-up on the course offering hot chocolate\, coffee\, teas\, cookies\, fruit\, soup\, chocolate and wine including the Puzzler's Pub Party Tent. Relax after passing the finish line with chair massages\, manicures\, make-up tips and more with Escape Salon and the Flint School of Therapeutic Massage. Wine Tasting begins at 2 p.m. Participants must be 21 years of age to attend this session. All proceeds benefit the IMA Recreation Association and the Boys & Girls Club of Greater Flint. To register click on www.winewomenandchocolate.org or contact Diane at (810) 249-7060.
X-ALT-DESC;FMTTYPE=text/html:Enjoy this unique women's only event offering a 5K snow shoe\, cross country ski and walking course on the beautiful IMA Brookwood Golf Course. Flint's Shumaker's Ski &amp\; Snowboard generously provides all equipment or if you like\, you my bring your own. Hospitality tents are set-up on the course offering hot chocolate\, coffee\, teas\, cookies\, fruit\, soup\, chocolate and wine including the Puzzler's Pub Party Tent. Relax after passing the finish line with chair massages\, manicures\, make-up tips and more with Escape Salon and the Flint School of Therapeutic Massage. Wine Tasting begins at 2 p.m. Participants must be 21 years of age to attend this session. All proceeds benefit the IMA Recreation Association and the Boys &amp\; Girls Club of Greater Flint. To register click on <a title="Wine\, Women &amp\; Chocolate " href="http://www.imarecreation.org/special-events/wine-women-chocolate/" target="_blank">www.winewomenandchocolate.org</a> or contact Diane at (810) 249-7060.
LOCATION:IMA Brookwood Golf Club 6045 Davison Road Burton MI
UID:e.2606.791
SEQUENCE:3
DTSTAMP:20260421T143307Z
URL:https://members.flintandgeneseechamber.org/events/details/wine-women-chocolate-at-ima-brookwood-golf-club-02-08-2014-791
END:VEVENT

END:VCALENDAR
