BEGIN:VCALENDAR
VERSION:2.0
PRODID:-//ChamberMaster//Event Calendar 2.0//EN
METHOD:PUBLISH
X-PUBLISHED-TTL:P3D
REFRESH-INTERVAL:P3D
CALSCALE:GREGORIAN
BEGIN:VEVENT
DTSTART:20140122T170000Z
DTEND:20140122T183000Z
X-MICROSOFT-CDO-ALLDAYEVENT:FALSE
SUMMARY:Woman's Business Commitee
DESCRIPTION:Monthly Committee Meeting at J.Porters in the Holiday Inn Gateway Center.\n\n5353 Gateway Center Drive\, Flint MI 48507\n\nQuestions? Please call Debbie Garrison at 810-600-1416.
X-ALT-DESC;FMTTYPE=text/html:Monthly Committee Meeting at J.Porters in the Holiday Inn Gateway Center.\n\n5353 Gateway Center Drive\, Flint MI 48507\n\nQuestions? Please call Debbie Garrison at 810-600-1416.\n\n&nbsp\;
LOCATION:
UID:e.2606.784
SEQUENCE:3
DTSTAMP:20260421T160024Z
URL:https://members.flintandgeneseechamber.org/events/details/woman-s-business-commitee-01-22-2014-784
END:VEVENT

END:VCALENDAR
