BEGIN:VCALENDAR
VERSION:2.0
PRODID:-//ChamberMaster//Event Calendar 2.0//EN
METHOD:PUBLISH
X-PUBLISHED-TTL:P3D
REFRESH-INTERVAL:P3D
CALSCALE:GREGORIAN
BEGIN:VEVENT
DTSTART:20131004T160000Z
DTEND:20131006T000000Z
X-MICROSOFT-CDO-ALLDAYEVENT:FALSE
SUMMARY:Women 2 Women Expos!
DESCRIPTION:Experience the fun and excitement of the Women's Expos!\n\nThese events are designed to entertian and inspire every guest with topics such as:  health tips\, fashion shows\, educational speakers\, workshops\, shopping\, dancing\, excersing\, pampering\, home improvement and more.\n\nExhibitors will offer products and services including clothing and acessories\, salon services\, health services\, financial services\, cometics\, jewlry\, education and more.\n\nTake advantage of these events to jump start your holiday sales. To insure your space\, sign up today.\n\nExpos dates and times:\n\nFriday\, October 4th   12pm-8pm  @ Perani Event Center\n\nSaturday\, October 5th  9am-5pm @ Perani event Center\n\nFriday\, November 15th 12pm-8pm  @  SVSU Ryder Center\n\nSaturday\, November 16th 9am-5pm  @ SVSU Ryder Center\n\n \n\nPlease register at http://www.info@w2michigan.com
X-ALT-DESC;FMTTYPE=text/html:Experience the fun and excitement of the Women's Expos!\n\nThese events are designed to entertian and inspire every guest with topics such as:  health tips\, fashion shows\, educational speakers\, workshops\, shopping\, dancing\, excersing\, pampering\, home improvement and more.\n\nExhibitors will offer products and services including clothing and acessories\, salon services\, health services\, financial services\, cometics\, jewlry\, education and more.\n\nTake advantage of these events to jump start your holiday sales. To insure your space\, sign up today.\n\nExpos dates and times:\n\nFriday\, October 4th   12pm-8pm  @ Perani Event Center\n\nSaturday\, October 5th  9am-5pm @ Perani event Center\n\nFriday\, November 15th 12pm-8pm  @  SVSU Ryder Center\n\nSaturday\, November 16th 9am-5pm  @ SVSU Ryder Center\n\n&nbsp\;\n\nPlease register at <a href="http://www.info@w2michigan.com">http://www.info@w2michigan.com</a>\n\n&nbsp\;\n\n&nbsp\;\n\n&nbsp\;\n\n&nbsp\;
LOCATION:
UID:e.2606.435
SEQUENCE:3
DTSTAMP:20260421T202803Z
URL:https://members.flintandgeneseechamber.org/events/details/women-2-women-expos-10-04-2013-435
END:VEVENT

END:VCALENDAR
