BEGIN:VCALENDAR
VERSION:2.0
PRODID:-//ChamberMaster//Event Calendar 2.0//EN
METHOD:PUBLISH
X-PUBLISHED-TTL:P3D
REFRESH-INTERVAL:P3D
CALSCALE:GREGORIAN
BEGIN:VEVENT
DTSTART:20140506T130000Z
DTEND:20140506T210000Z
X-MICROSOFT-CDO-ALLDAYEVENT:FALSE
SUMMARY:Women's Expo - Women2Women MI
DESCRIPTION:Perani Arean 3501 Lapeer Road\, Flint\, MI  call (810) 694-2326\n\nFashion\, speakers\, shopping\, authors\, giveaway and Fun!\n\nMay 5 th Friday 12 noon - 8Pm\n\nMay 6th Saturday 9am - 5 pm
X-ALT-DESC;FMTTYPE=text/html:Perani Arean 3501 Lapeer Road\, Flint\, MI  call (810) 694-2326\n\nFashion\, speakers\, shopping\, authors\, giveaway and Fun!\n\nMay 5 th Friday 12 noon - 8Pm\n\nMay 6th Saturday 9am - 5 pm
LOCATION:Perani Arena & Event Center 3501 Lapeer Road Flint Michigan
UID:e.2606.1006
SEQUENCE:3
DTSTAMP:20260421T102809Z
URL:https://members.flintandgeneseechamber.org/events/details/women-s-expo-women2women-mi-05-06-2014-1006
END:VEVENT

END:VCALENDAR
