BEGIN:VCALENDAR
VERSION:2.0
PRODID:-//ChamberMaster//Event Calendar 2.0//EN
METHOD:PUBLISH
X-PUBLISHED-TTL:P3D
REFRESH-INTERVAL:P3D
CALSCALE:GREGORIAN
BEGIN:VEVENT
DTSTART:20140124T233000Z
DTEND:20140125T020000Z
X-MICROSOFT-CDO-ALLDAYEVENT:FALSE
SUMMARY:Young Professionals Group Membership Drive
DESCRIPTION:Come enjoy an evening of bowling and pizza while finding out about the exciting new changes to the Young Professionals Group.  This group is a Committee of the Flint & Genesee Chamber of Commerce. They are geared toward young professionals living and working in our community who want to expand their social networks\, grow professionally\, learn to lead and make a difference in Genesee County.\n\nPizza\, popcorn and pop provided with give-aways and 50/50 raffle.  A cash bar is available.\n\nRegistration begins at 6:30 p.m.\n\nThis event is limited to the first 60 people.
X-ALT-DESC;FMTTYPE=text/html:Come enjoy an evening of bowling and pizza while finding out about the exciting new changes to the Young Professionals Group.  This group is a Committee of the Flint &amp\; Genesee Chamber of Commerce. They are geared toward young professionals living and working in our community who want to expand their social networks\, grow professionally\, learn to lead and make a difference in Genesee County.\n\nPizza\, popcorn and pop provided with give-aways and 50/50 raffle.  A cash bar is available.\n\nRegistration begins at 6:30 p.m.\n\nThis event is limited to the first 60 people.
LOCATION:B's Bowling 750 S. Center Road Flint MI
UID:e.2606.633
SEQUENCE:3
DTSTAMP:20260421T155901Z
URL:https://members.flintandgeneseechamber.org/events/details/young-professionals-group-membership-drive-01-24-2014-633
END:VEVENT

END:VCALENDAR
