BEGIN:VCALENDAR
VERSION:2.0
PRODID:-//ChamberMaster//Event Calendar 2.0//EN
METHOD:PUBLISH
X-PUBLISHED-TTL:P3D
REFRESH-INTERVAL:P3D
CALSCALE:GREGORIAN
BEGIN:VEVENT
DTSTART:20140303T223000Z
DTEND:20140303T233000Z
X-MICROSOFT-CDO-ALLDAYEVENT:FALSE
SUMMARY:Young Professionals Monthly Meeting
DESCRIPTION:March's meeting will be held at Flip Flops Grill & Chill\, 2520 W. Hill Road\, Flint\, MI 48507.  810-715-9220.\n\nGuest Speaker is Jenny Dumont from the Referral Institute. \n\nThe topic will be: What is Networking & Why is it important?
X-ALT-DESC;FMTTYPE=text/html:March's meeting will be held at Flip Flops Grill &amp\; Chill\, 2520 W. Hill Road\, Flint\, MI 48507.  810-715-9220.\n\n<strong>Guest Speaker is Jenny Dumont from the Referral Institute. </strong>\n\n<em>The topic will be: What is Networking &amp\; Why is it important?</em>
LOCATION:
UID:e.2606.839
SEQUENCE:3
DTSTAMP:20260421T124952Z
URL:https://members.flintandgeneseechamber.org/events/details/young-professionals-monthly-meeting-03-03-2014-839
END:VEVENT

END:VCALENDAR
