BEGIN:VCALENDAR
VERSION:2.0
PRODID:-//ChamberMaster//Event Calendar 2.0//EN
METHOD:PUBLISH
X-PUBLISHED-TTL:P3D
REFRESH-INTERVAL:P3D
CALSCALE:GREGORIAN
BEGIN:VEVENT
DTSTART:20140429T213000Z
DTEND:20140429T223000Z
X-MICROSOFT-CDO-ALLDAYEVENT:FALSE
SUMMARY:YWCA of Greater Flint - Speak Up Speak Out
DESCRIPTION:An event to honor survivors and victims of sexual assault\n\nSpecial guests: Mayor Dayne Walling and Prosecuting Attorney David Leyton\n\nThis event is free and refreshments will be served.\n\nOpen to the public\n\nFor more information call 810-238-7621\n\nClick Here for a link to the flyer
X-ALT-DESC;FMTTYPE=text/html:An event to honor survivors and victims of sexual assault\n\nSpecial guests: Mayor Dayne Walling and Prosecuting Attorney David Leyton\n\nThis event is free and refreshments will be served.\n\nOpen to the public\n\nFor more information call 810-238-7621\n\n<a href="/wp-content/themes/flintgenesee/pdf/suso.pdf">Click Here</a> for a link to the flyer
LOCATION:YWCA 310 E. Third Street Flint MI 48502
UID:e.2606.910
SEQUENCE:3
DTSTAMP:20260421T114029Z
URL:https://members.flintandgeneseechamber.org/events/details/ywca-of-greater-flint-speak-up-speak-out-04-29-2014-910
END:VEVENT

END:VCALENDAR
